BEGIN:VCALENDAR
VERSION:2.0
PRODID:-//wp-events-plugin.com//7.2.3.1//EN
BEGIN:VEVENT
UID:38@goudasport.nl
DTSTART;TZID=Europe/Amsterdam:20190106T150000
DTEND;TZID=Europe/Amsterdam:20190106T150000
DTSTAMP:20190103T081350Z
URL:https://goudasport.nl/evenementen/nieuwjaarsloop-roei-en-zeilverenigin
 g-gouda/
SUMMARY:Nieuwjaarsloop Roei- en Zeilvereniging Gouda
DESCRIPTION:De Nieuwjaarsloop van Roei- en Zeilvereniging 'Gouda' en Go Spo
 rtief bestaat uit een mooie ronde van 5 kilometer rondom de 's Gravenbroek
 seplas. Start is om 15 uur en de loop is openbaar\, dus ook voor niet-lede
 n. Inschrijven en startnummers ophalen kan van 14.15 tot 14.45 uur in het 
 clubgebouw van de Roei- en Zeilvereniging 'Gouda'. Niet-leden betalen 5 eu
 ro voor deelname. Na afloop is er warme drank en een welverdiende oliebol 
 voor elke gefinishte loper. Voorinschrijven kan door je voor- en achternaa
 m\, geslacht\, leeftijd en woonplaats te mailen naar info@goudasport.nl\n\
 nNa-inschrijven kan op 6 januari nog tot 14.30 uur in het gebouw van Roei-
  en Zeilvereniging 'Gouda' en kost 3 euro meer voor niet-leden.
LOCATION:Roei- en Zeilvereniging Gouda\, Notaris d'Aumerielaan 35\, Reeuwij
 k\, Zuid-Holland\, 2811 HS\, Nederland
X-APPLE-STRUCTURED-LOCATION;VALUE=URI;X-ADDRESS=Notaris d'Aumerielaan 35\, 
 Reeuwijk\, Zuid-Holland\, 2811 HS\, Nederland;X-APPLE-RADIUS=100;X-TITLE=R
 oei- en Zeilvereniging Gouda:geo:0,0
END:VEVENT
BEGIN:VTIMEZONE
TZID:Europe/Amsterdam
X-LIC-LOCATION:Europe/Amsterdam
BEGIN:STANDARD
DTSTART:20181028T020000
TZOFFSETFROM:+0200
TZOFFSETTO:+0100
TZNAME:CET
END:STANDARD
END:VTIMEZONE
END:VCALENDAR