BEGIN:VCALENDAR
VERSION:2.0
PRODID:-//wp-events-plugin.com//7.2.3.1//EN
BEGIN:VEVENT
UID:39@goudasport.nl
DTSTART;TZID=Europe/Amsterdam:20190525T090000
DTEND;TZID=Europe/Amsterdam:20190525T113000
DTSTAMP:20190407T161151Z
URL:https://goudasport.nl/evenementen/goudse-houtloop-8/
SUMMARY:Goudse Houtloop #8
DESCRIPTION:De Goudse Houtloop beleeft op zaterdag 25 mei haar achtste edit
 ie. Voor de vierde keer op rij zijn de start en finish op het terrein van 
 de Goudse Manege. Jullie sporttassen kunnen jullie opnieuw stallen in de a
 uthentieke\, schoongemaakte voormalige paardenstallen achter de lounge/hor
 eca. Naast de 5 en 10 kilometer is er ook weer deelname aan Kids Runs over
  een paar 100 meter mogelijk (1 of meer rondjes).\n\nProgramma:\n± 9.30 u
 ur: start Kidsrun\n10.00 uur: start 5 + 15 km\n10.10 uur: start 10 km\n\nV
 oorinschrijven of informatie opvragen kan via info@goudasport.nl. Wil je v
 oorinschrijven geef dan je volledige naam\, geslacht en woonplaats door en
  vermeld welke afstand je wilt rennen. Voorinschrijven kan tot en met vrij
 dag 18 mei. Voorinschrijftarieven zijn: 5 km: 6\,50 euro. 10  en 15 km 7\,
 50 euro. Kidsrun: 2\,50 euro. Na-inschrijven kost 2\,50 euro extra.
ATTACH;FMTTYPE=image/jpeg:https://goudasport.nl/wp-content/uploads/2019/01
 /49897282_1974218245994781_5130639314710953984_o.jpg
LOCATION:Goudse Manege\, Goudse Houtsingel 101\, Gouda\, Zuid-Holland\, 280
 5 HL\, Groene Hart\, Nederland
X-APPLE-STRUCTURED-LOCATION;VALUE=URI;X-ADDRESS=Goudse Houtsingel 101\, Gou
 da\, Zuid-Holland\, 2805 HL\, Groene Hart\, Nederland;X-APPLE-RADIUS=100;X
 -TITLE=Goudse Manege:geo:0,0
END:VEVENT
BEGIN:VTIMEZONE
TZID:Europe/Amsterdam
X-LIC-LOCATION:Europe/Amsterdam
BEGIN:DAYLIGHT
DTSTART:20190331T030000
TZOFFSETFROM:+0100
TZOFFSETTO:+0200
TZNAME:CEST
END:DAYLIGHT
END:VTIMEZONE
END:VCALENDAR